BEGIN:VCALENDAR
VERSION:2.0
PRODID:icalendar-ruby
CALSCALE:GREGORIAN
METHOD:PUBLISH
BEGIN:VEVENT
DTSTAMP:20260424T134933Z
UID:207-104134@catalystchristiancommunity.org
DTSTART:20260530T013000Z
DTEND:20260530T043000Z
CLASS:PUBLIC
CREATED:20260423T142502
DESCRIPTION:Save the Date! CATALYST MARRIAGE EVENT\n \n"Anchored &amp\; La
 ughing"\n \nFriday\, May 29\, 2026\n6:30 p.m. - 9:00 p.m.\n5555 Stearns A
 ve.\, Long Beach\n \nDinner\, Fun\, Guaranteed Laughs\, Uplifting Insight
 s\n \nPanel: Craig &amp\; Maripen Yamachika\n            Mark &amp\
 ; Tritia Lachica\n            Todd &amp\; Diem Tabon\n \n$15.00 per
  couple\n\nInvite and treat your friends!\n\n \n\nLimited seating. Regist
 ration opens on Sunday\, April 26.\n
LAST-MODIFIED:20260423T142502
LOCATION:5555 Stearns St.
SUMMARY:Anchored and Laughing
URL;VALUE=URI:https://www.catalystchristiancommunity.org/events/anchored-an
 d-laughing/2026-05-29
ATTACH;FILENAME=Marriage Event.jpg;FMTTYPE=image/jpeg:https://dq5pwpg1q8ru0
 .cloudfront.net/2026/04/23/21/25/02/85efb167-9ec6-49d9-99eb-8efa428a03b1/M
 arriage%20Event.jpg
END:VEVENT
END:VCALENDAR
